BEGIN:VCALENDAR
VERSION:2.0
PRODID:-//Kirkkonummen A-kilta Ry - ECPv5.12.1//NONSGML v1.0//EN
CALSCALE:GREGORIAN
METHOD:PUBLISH
X-WR-CALNAME:Kirkkonummen A-kilta Ry
X-ORIGINAL-URL:https://kirkkonummenakilta.fi
X-WR-CALDESC:Events for Kirkkonummen A-kilta Ry
BEGIN:VTIMEZONE
TZID:Europe/Helsinki
BEGIN:DAYLIGHT
TZOFFSETFROM:+0200
TZOFFSETTO:+0300
TZNAME:EEST
DTSTART:20230326T010000
END:DAYLIGHT
BEGIN:STANDARD
TZOFFSETFROM:+0300
TZOFFSETTO:+0200
TZNAME:EET
DTSTART:20231029T010000
END:STANDARD
END:VTIMEZONE
BEGIN:VEVENT
DTSTART;TZID=Europe/Helsinki:20231013T100000
DTEND;TZID=Europe/Helsinki:20231013T130000
DTSTAMP:20260421T105446
CREATED:20230823T054941Z
LAST-MODIFIED:20230823T054941Z
UID:2179-1697191200-1697202000@kirkkonummenakilta.fi
SUMMARY:Taideryhmä
DESCRIPTION:Matalan kynnyksen taideryhmä joka toinen perjantai Majakalla.
URL:https://kirkkonummenakilta.fi/tapahtuma/taideryhma-5/
LOCATION:Majakka\, Pappilantie 1 a\, Kirkkonummi
END:VEVENT
END:VCALENDAR