BEGIN:VCALENDAR
VERSION:2.0
PRODID:-//Kirkkonummen A-kilta Ry - ECPv5.12.1//NONSGML v1.0//EN
CALSCALE:GREGORIAN
METHOD:PUBLISH
X-WR-CALNAME:Kirkkonummen A-kilta Ry
X-ORIGINAL-URL:https://kirkkonummenakilta.fi
X-WR-CALDESC:Events for Kirkkonummen A-kilta Ry
BEGIN:VTIMEZONE
TZID:Europe/Helsinki
BEGIN:DAYLIGHT
TZOFFSETFROM:+0200
TZOFFSETTO:+0300
TZNAME:EEST
DTSTART:20220327T010000
END:DAYLIGHT
BEGIN:STANDARD
TZOFFSETFROM:+0300
TZOFFSETTO:+0200
TZNAME:EET
DTSTART:20221030T010000
END:STANDARD
END:VTIMEZONE
BEGIN:VEVENT
DTSTART;TZID=Europe/Helsinki:20220430T180000
DTEND;TZID=Europe/Helsinki:20220430T200000
DTSTAMP:20260424T184411
CREATED:20220412T160633Z
LAST-MODIFIED:20220428T214547Z
UID:1676-1651341600-1651348800@kirkkonummenakilta.fi
SUMMARY:Sulkapallo (PERUTTU!)
DESCRIPTION:Sulkapalloa Gesterbyn koululla lauantai-iltaisin.
URL:https://kirkkonummenakilta.fi/tapahtuma/sulkapallo-12/
LOCATION:Gesterbyn koulu\, Vilhonkummuntie 4\, Kirkkonummi
END:VEVENT
END:VCALENDAR