BEGIN:VCALENDAR
VERSION:2.0
PRODID:-//Kirkkonummen A-kilta Ry - ECPv5.12.1//NONSGML v1.0//EN
CALSCALE:GREGORIAN
METHOD:PUBLISH
X-WR-CALNAME:Kirkkonummen A-kilta Ry
X-ORIGINAL-URL:https://kirkkonummenakilta.fi
X-WR-CALDESC:Events for Kirkkonummen A-kilta Ry
BEGIN:VTIMEZONE
TZID:Europe/Helsinki
BEGIN:DAYLIGHT
TZOFFSETFROM:+0200
TZOFFSETTO:+0300
TZNAME:EEST
DTSTART:20220327T010000
END:DAYLIGHT
BEGIN:STANDARD
TZOFFSETFROM:+0300
TZOFFSETTO:+0200
TZNAME:EET
DTSTART:20221030T010000
END:STANDARD
END:VTIMEZONE
BEGIN:VEVENT
DTSTART;TZID=Europe/Helsinki:20220611T120000
DTEND;TZID=Europe/Helsinki:20220611T120000
DTSTAMP:20260424T165458
CREATED:20220602T091157Z
LAST-MODIFIED:20220602T091323Z
UID:1742-1654948800-1654948800@kirkkonummenakilta.fi
SUMMARY:Päihteetön pihatapahtuma Inkoossa
DESCRIPTION:Pihapelejä ja grillausta Inkoon A-Killalla klo 12 alkaen. Lähtö Majakalta klo 11.
URL:https://kirkkonummenakilta.fi/tapahtuma/paihteeton-pihatapahtuma/
LOCATION:Inkoon A-kilta\, Grönkullavägen 52\, Inkoo\, Suomi
END:VEVENT
END:VCALENDAR