BEGIN:VCALENDAR
VERSION:2.0
PRODID:-//Kirkkonummen A-kilta Ry - ECPv5.12.1//NONSGML v1.0//EN
CALSCALE:GREGORIAN
METHOD:PUBLISH
X-WR-CALNAME:Kirkkonummen A-kilta Ry
X-ORIGINAL-URL:https://kirkkonummenakilta.fi
X-WR-CALDESC:Events for Kirkkonummen A-kilta Ry
BEGIN:VTIMEZONE
TZID:Europe/Helsinki
BEGIN:DAYLIGHT
TZOFFSETFROM:+0200
TZOFFSETTO:+0300
TZNAME:EEST
DTSTART:20220327T010000
END:DAYLIGHT
BEGIN:STANDARD
TZOFFSETFROM:+0300
TZOFFSETTO:+0200
TZNAME:EET
DTSTART:20221030T010000
END:STANDARD
END:VTIMEZONE
BEGIN:VEVENT
DTSTART;TZID=Europe/Helsinki:20220816T110000
DTEND;TZID=Europe/Helsinki:20220816T120000
DTSTAMP:20260424T133907
CREATED:20220713T070927Z
LAST-MODIFIED:20220713T071006Z
UID:1768-1660647600-1660651200@kirkkonummenakilta.fi
SUMMARY:Keilaus
DESCRIPTION:KEILAUS JATKUU! Keilailua Masalassa tiistaisin.
URL:https://kirkkonummenakilta.fi/tapahtuma/keilaus-17/
LOCATION:Joo.Arena\, Seppä-Kallen kuja 1\, Kirkkonummi
END:VEVENT
BEGIN:VEVENT
DTSTART;TZID=Europe/Helsinki:20220816T180000
DTEND;TZID=Europe/Helsinki:20220816T180000
DTSTAMP:20260424T133907
CREATED:20220729T084735Z
LAST-MODIFIED:20220729T084739Z
UID:1787-1660672800-1660672800@kirkkonummenakilta.fi
SUMMARY:Teema-ryhmä
DESCRIPTION:Avoin keskusteluryhmä kaikille asiasta kiinnostuneille Majakalla.
URL:https://kirkkonummenakilta.fi/tapahtuma/teema-ryhma-25/
LOCATION:Majakka\, Pappilantie 1 a\, Kirkkonummi
END:VEVENT
END:VCALENDAR