BEGIN:VCALENDAR
VERSION:2.0
PRODID:-//Kirkkonummen A-kilta Ry - ECPv5.12.1//NONSGML v1.0//EN
CALSCALE:GREGORIAN
METHOD:PUBLISH
X-WR-CALNAME:Kirkkonummen A-kilta Ry
X-ORIGINAL-URL:https://kirkkonummenakilta.fi
X-WR-CALDESC:Events for Kirkkonummen A-kilta Ry
BEGIN:VTIMEZONE
TZID:Europe/Helsinki
BEGIN:DAYLIGHT
TZOFFSETFROM:+0200
TZOFFSETTO:+0300
TZNAME:EEST
DTSTART:20220327T010000
END:DAYLIGHT
BEGIN:STANDARD
TZOFFSETFROM:+0300
TZOFFSETTO:+0200
TZNAME:EET
DTSTART:20221030T010000
END:STANDARD
END:VTIMEZONE
BEGIN:VEVENT
DTSTART;TZID=Europe/Helsinki:20221101T110000
DTEND;TZID=Europe/Helsinki:20221101T120000
DTSTAMP:20260424T085857
CREATED:20220930T091126Z
LAST-MODIFIED:20220930T091134Z
UID:1876-1667300400-1667304000@kirkkonummenakilta.fi
SUMMARY:Keilaus
DESCRIPTION:Keilailua Masalassa tiistaisin.
URL:https://kirkkonummenakilta.fi/tapahtuma/keilaus-28/
LOCATION:Joo.Arena\, Seppä-Kallen kuja 1\, Kirkkonummi
END:VEVENT
BEGIN:VEVENT
DTSTART;TZID=Europe/Helsinki:20221101T180000
DTEND;TZID=Europe/Helsinki:20221101T180000
DTSTAMP:20260424T085857
CREATED:20220930T085810Z
LAST-MODIFIED:20220930T085816Z
UID:1852-1667325600-1667325600@kirkkonummenakilta.fi
SUMMARY:Teema-ryhmä
DESCRIPTION:Avoin keskusteluryhmä kaikille asiasta kiinnostuneille Majakalla.
URL:https://kirkkonummenakilta.fi/tapahtuma/teema-ryhma-36/
LOCATION:Majakka\, Pappilantie 1 a\, Kirkkonummi
END:VEVENT
END:VCALENDAR