BEGIN:VCALENDAR
VERSION:2.0
PRODID:-//Kirkkonummen A-kilta Ry - ECPv5.12.1//NONSGML v1.0//EN
CALSCALE:GREGORIAN
METHOD:PUBLISH
X-WR-CALNAME:Kirkkonummen A-kilta Ry
X-ORIGINAL-URL:https://kirkkonummenakilta.fi
X-WR-CALDESC:Events for Kirkkonummen A-kilta Ry
BEGIN:VTIMEZONE
TZID:Europe/Helsinki
BEGIN:DAYLIGHT
TZOFFSETFROM:+0200
TZOFFSETTO:+0300
TZNAME:EEST
DTSTART:20220327T010000
END:DAYLIGHT
BEGIN:STANDARD
TZOFFSETFROM:+0300
TZOFFSETTO:+0200
TZNAME:EET
DTSTART:20221030T010000
END:STANDARD
END:VTIMEZONE
BEGIN:VEVENT
DTSTART;TZID=Europe/Helsinki:20221203T160000
DTEND;TZID=Europe/Helsinki:20221203T160000
DTSTAMP:20260424T073610
CREATED:20221122T082913Z
LAST-MODIFIED:20221122T082917Z
UID:1902-1670083200-1670083200@kirkkonummenakilta.fi
SUMMARY:Pikkujoulut (jäsenille)
DESCRIPTION:Perinteiset joulujuhlat Majakalla.
URL:https://kirkkonummenakilta.fi/tapahtuma/pikkujoulut-jasenille/
LOCATION:Majakka\, Pappilantie 1 a\, Kirkkonummi
END:VEVENT
BEGIN:VEVENT
DTSTART;TZID=Europe/Helsinki:20221203T180000
DTEND;TZID=Europe/Helsinki:20221203T200000
DTSTAMP:20260424T073610
CREATED:20220930T084855Z
LAST-MODIFIED:20220930T084900Z
UID:1838-1670090400-1670097600@kirkkonummenakilta.fi
SUMMARY:Sulkapallo
DESCRIPTION:Sulkapalloa Masalan koululla lauantai-iltaisin.
URL:https://kirkkonummenakilta.fi/tapahtuma/sulkapallo-30/
LOCATION:Masalan koulu\, Vanha Hommaksentie 6\, KIRKKONUMMI\, 02400\, Suomi
END:VEVENT
END:VCALENDAR