BEGIN:VCALENDAR
VERSION:2.0
PRODID:-//Kirkkonummen A-kilta Ry - ECPv5.12.1//NONSGML v1.0//EN
CALSCALE:GREGORIAN
METHOD:PUBLISH
X-WR-CALNAME:Kirkkonummen A-kilta Ry
X-ORIGINAL-URL:https://kirkkonummenakilta.fi
X-WR-CALDESC:Events for Kirkkonummen A-kilta Ry
BEGIN:VTIMEZONE
TZID:Europe/Helsinki
BEGIN:DAYLIGHT
TZOFFSETFROM:+0200
TZOFFSETTO:+0300
TZNAME:EEST
DTSTART:20230326T010000
END:DAYLIGHT
BEGIN:STANDARD
TZOFFSETFROM:+0300
TZOFFSETTO:+0200
TZNAME:EET
DTSTART:20231029T010000
END:STANDARD
END:VTIMEZONE
BEGIN:VEVENT
DTSTART;TZID=Europe/Helsinki:20230121T180000
DTEND;TZID=Europe/Helsinki:20230121T200000
DTSTAMP:20260424T060158
CREATED:20221215T095620Z
LAST-MODIFIED:20221215T095648Z
UID:1936-1674324000-1674331200@kirkkonummenakilta.fi
SUMMARY:Sulkapallo (SALI SULJETTU!)
DESCRIPTION:Sulkapalloa Masalan koululla lauantai-iltaisin.
URL:https://kirkkonummenakilta.fi/tapahtuma/sulkapallo-sali-suljettu/
LOCATION:Masalan koulu\, Vanha Hommaksentie 6\, KIRKKONUMMI\, 02400\, Suomi
END:VEVENT
END:VCALENDAR