BEGIN:VCALENDAR
VERSION:2.0
PRODID:-//Kirkkonummen A-kilta Ry - ECPv5.12.1//NONSGML v1.0//EN
CALSCALE:GREGORIAN
METHOD:PUBLISH
X-WR-CALNAME:Kirkkonummen A-kilta Ry
X-ORIGINAL-URL:https://kirkkonummenakilta.fi
X-WR-CALDESC:Events for Kirkkonummen A-kilta Ry
BEGIN:VTIMEZONE
TZID:Europe/Helsinki
BEGIN:DAYLIGHT
TZOFFSETFROM:+0200
TZOFFSETTO:+0300
TZNAME:EEST
DTSTART:20230326T010000
END:DAYLIGHT
BEGIN:STANDARD
TZOFFSETFROM:+0300
TZOFFSETTO:+0200
TZNAME:EET
DTSTART:20231029T010000
END:STANDARD
END:VTIMEZONE
BEGIN:VEVENT
DTSTART;TZID=Europe/Helsinki:20230328T110000
DTEND;TZID=Europe/Helsinki:20230328T120000
DTSTAMP:20260424T015532
CREATED:20230314T100653Z
LAST-MODIFIED:20230314T100657Z
UID:2042-1680001200-1680004800@kirkkonummenakilta.fi
SUMMARY:Keilaus
DESCRIPTION:Keilailua Masalassa tiistaisin.
URL:https://kirkkonummenakilta.fi/tapahtuma/keilaus-43/
LOCATION:Joo.Arena\, Seppä-Kallen kuja 1\, Kirkkonummi
END:VEVENT
BEGIN:VEVENT
DTSTART;TZID=Europe/Helsinki:20230328T180000
DTEND;TZID=Europe/Helsinki:20230328T180000
DTSTAMP:20260424T015532
CREATED:20230314T083301Z
LAST-MODIFIED:20230314T083308Z
UID:1961-1680026400-1680026400@kirkkonummenakilta.fi
SUMMARY:Teema-ryhmä
DESCRIPTION:Avoin keskusteluryhmä kaikille asiasta kiinnostuneille Majakalla.
URL:https://kirkkonummenakilta.fi/tapahtuma/teema-ryhma-55/
LOCATION:Majakka\, Pappilantie 1 a\, Kirkkonummi
END:VEVENT
END:VCALENDAR